BEGIN:VCALENDAR
VERSION:2.0
PRODID:-//Grace Daycare &amp; Learning Center - ECPv6.15.20//NONSGML v1.0//EN
CALSCALE:GREGORIAN
METHOD:PUBLISH
X-WR-CALNAME:Grace Daycare &amp; Learning Center
X-ORIGINAL-URL:https://gracedaycares.com
X-WR-CALDESC:Events for Grace Daycare &amp; Learning Center
REFRESH-INTERVAL;VALUE=DURATION:PT1H
X-Robots-Tag:noindex
X-PUBLISHED-TTL:PT1H
BEGIN:VTIMEZONE
TZID:UTC
BEGIN:STANDARD
TZOFFSETFROM:+0000
TZOFFSETTO:+0000
TZNAME:UTC
DTSTART:20170101T000000
END:STANDARD
END:VTIMEZONE
BEGIN:VEVENT
DTSTART;VALUE=DATE:20190812
DTEND;VALUE=DATE:20190824
DTSTAMP:20260423T161658
CREATED:20180927T152243Z
LAST-MODIFIED:20180927T152243Z
UID:798-1565568000-1566604799@gracedaycares.com
SUMMARY:SUMMER RECESS - CLOSED
DESCRIPTION:
URL:https://gracedaycares.com/event/summer-recess-closed/
END:VEVENT
BEGIN:VEVENT
DTSTART;TZID=UTC:20190628T143000
DTEND;TZID=UTC:20190628T173000
DTSTAMP:20260423T161658
CREATED:20180927T152110Z
LAST-MODIFIED:20180927T152138Z
UID:796-1561732200-1561743000@gracedaycares.com
SUMMARY:Staff Development - EARLY RELEASE 2PM
DESCRIPTION:
URL:https://gracedaycares.com/event/staff-development-early-release-2pm-6/
END:VEVENT
BEGIN:VEVENT
DTSTART;VALUE=DATE:20190527
DTEND;VALUE=DATE:20190528
DTSTAMP:20260423T161658
CREATED:20180927T151935Z
LAST-MODIFIED:20180927T151935Z
UID:794-1558915200-1559001599@gracedaycares.com
SUMMARY:Memorial Day - CLOSED
DESCRIPTION:
URL:https://gracedaycares.com/event/memorial-day-closed/
END:VEVENT
BEGIN:VEVENT
DTSTART;TZID=UTC:20190503T080000
DTEND;TZID=UTC:20190503T170000
DTSTAMP:20260423T161658
CREATED:20180927T151850Z
LAST-MODIFIED:20180927T151850Z
UID:792-1556870400-1556902800@gracedaycares.com
SUMMARY:Staff Development - EARLY RELEASE 2PM
DESCRIPTION:
URL:https://gracedaycares.com/event/staff-development-early-release-2pm-5/
END:VEVENT
BEGIN:VEVENT
DTSTART;VALUE=DATE:20190419
DTEND;VALUE=DATE:20190420
DTSTAMP:20260423T161658
CREATED:20180927T144457Z
LAST-MODIFIED:20180927T144613Z
UID:790-1555632000-1555718399@gracedaycares.com
SUMMARY:Good Friday - CLOSED
DESCRIPTION:
URL:https://gracedaycares.com/event/good-friday-closed/
END:VEVENT
BEGIN:VEVENT
DTSTART;TZID=UTC:20190329T140000
DTEND;TZID=UTC:20190329T173000
DTSTAMP:20260423T161658
CREATED:20180927T144335Z
LAST-MODIFIED:20180927T144409Z
UID:788-1553868000-1553880600@gracedaycares.com
SUMMARY:Staff Development - EARLY RELEASE 2PM
DESCRIPTION:
URL:https://gracedaycares.com/event/staff-development-early-release-2pm-4/
END:VEVENT
BEGIN:VEVENT
DTSTART;TZID=UTC:20190222T140000
DTEND;TZID=UTC:20190222T173000
DTSTAMP:20260423T161658
CREATED:20180927T144226Z
LAST-MODIFIED:20180927T144226Z
UID:786-1550844000-1550856600@gracedaycares.com
SUMMARY:Staff Development - EARLY RELEASE 2PM
DESCRIPTION:
URL:https://gracedaycares.com/event/staff-development-early-release-2pm-3/
END:VEVENT
BEGIN:VEVENT
DTSTART;VALUE=DATE:20190101
DTEND;VALUE=DATE:20190102
DTSTAMP:20260423T161658
CREATED:20180509T200231Z
LAST-MODIFIED:20180509T200231Z
UID:659-1546300800-1546387199@gracedaycares.com
SUMMARY:New Year's Day CLOSED
DESCRIPTION:
URL:https://gracedaycares.com/event/new-years-day-closed/
END:VEVENT
BEGIN:VEVENT
DTSTART;VALUE=DATE:20181225
DTEND;VALUE=DATE:20181226
DTSTAMP:20260423T161658
CREATED:20180927T140708Z
LAST-MODIFIED:20180927T140708Z
UID:781-1545696000-1545782399@gracedaycares.com
SUMMARY:Christmas Day - CLOSED
DESCRIPTION:
URL:https://gracedaycares.com/event/christmas-day-closed-2/
END:VEVENT
BEGIN:VEVENT
DTSTART;VALUE=DATE:20181224
DTEND;VALUE=DATE:20181229
DTSTAMP:20260423T161658
CREATED:20180927T140630Z
LAST-MODIFIED:20180927T140630Z
UID:779-1545609600-1546041599@gracedaycares.com
SUMMARY:EARLY RELEASE 2 PM
DESCRIPTION:
URL:https://gracedaycares.com/event/early-release-2-pm/
END:VEVENT
BEGIN:VEVENT
DTSTART;TZID=UTC:20181214T140000
DTEND;TZID=UTC:20181214T173000
DTSTAMP:20260423T161658
CREATED:20180927T140514Z
LAST-MODIFIED:20180927T140514Z
UID:777-1544796000-1544808600@gracedaycares.com
SUMMARY:Staff Development - EARLY RELEASE 2PM
DESCRIPTION:
URL:https://gracedaycares.com/event/staff-development-early-release-2pm/
END:VEVENT
BEGIN:VEVENT
DTSTART;VALUE=DATE:20181122
DTEND;VALUE=DATE:20181125
DTSTAMP:20260423T161658
CREATED:20180927T140407Z
LAST-MODIFIED:20180927T140407Z
UID:775-1542844800-1543103999@gracedaycares.com
SUMMARY:Thanksgiving - CLOSED
DESCRIPTION:
URL:https://gracedaycares.com/event/thanksgiving-closed/
END:VEVENT
BEGIN:VEVENT
DTSTART;TZID=UTC:20181121T140000
DTEND;TZID=UTC:20181121T170000
DTSTAMP:20260423T161658
CREATED:20180927T140207Z
LAST-MODIFIED:20180927T140301Z
UID:773-1542808800-1542819600@gracedaycares.com
SUMMARY:Thanksgiving Recess - EARLY RELEASE 2PM
DESCRIPTION:
URL:https://gracedaycares.com/event/thanksgiving-recess-early-release-2pm/
END:VEVENT
BEGIN:VEVENT
DTSTART;TZID=UTC:20181026T140000
DTEND;TZID=UTC:20181026T173000
DTSTAMP:20260423T161658
CREATED:20180927T142124Z
LAST-MODIFIED:20180927T143127Z
UID:783-1540562400-1540575000@gracedaycares.com
SUMMARY:Staff Development - EARLY RELEASE 2PM
DESCRIPTION:
URL:https://gracedaycares.com/event/staff-development-early-release-2pm-2/
END:VEVENT
BEGIN:VEVENT
DTSTART;TZID=UTC:20180928T140000
DTEND;TZID=UTC:20180928T173000
DTSTAMP:20260423T161658
CREATED:20180927T135959Z
LAST-MODIFIED:20180927T135959Z
UID:769-1538143200-1538155800@gracedaycares.com
SUMMARY:Staff Development EARLY RELEASE
DESCRIPTION:
URL:https://gracedaycares.com/event/staff-development-early-release/
END:VEVENT
BEGIN:VEVENT
DTSTART;VALUE=DATE:20180903
DTEND;VALUE=DATE:20180904
DTSTAMP:20260423T161658
CREATED:20180509T185853Z
LAST-MODIFIED:20180509T185853Z
UID:655-1535932800-1536019199@gracedaycares.com
SUMMARY:Labor Day CLOSED
DESCRIPTION:
URL:https://gracedaycares.com/event/labor-day-closed/
END:VEVENT
BEGIN:VEVENT
DTSTART;VALUE=DATE:20180814
DTEND;VALUE=DATE:20180826
DTSTAMP:20260423T161658
CREATED:20180507T211703Z
LAST-MODIFIED:20180806T170807Z
UID:645-1534204800-1535241599@gracedaycares.com
SUMMARY:Summer Break - CLOSED
DESCRIPTION:
URL:https://gracedaycares.com/event/summer-break-closed/
END:VEVENT
BEGIN:VEVENT
DTSTART;VALUE=DATE:20180704
DTEND;VALUE=DATE:20180705
DTSTAMP:20260423T161658
CREATED:20180507T211953Z
LAST-MODIFIED:20180507T211953Z
UID:647-1530662400-1530748799@gracedaycares.com
SUMMARY:Independence Day CLOSED
DESCRIPTION:
URL:https://gracedaycares.com/event/independence-day-closed/
END:VEVENT
BEGIN:VEVENT
DTSTART;VALUE=DATE:20180528
DTEND;VALUE=DATE:20180529
DTSTAMP:20260423T161658
CREATED:20180507T211512Z
LAST-MODIFIED:20180507T211524Z
UID:643-1527465600-1527551999@gracedaycares.com
SUMMARY:Memorial Day 2018 - CLOSED
DESCRIPTION:
URL:https://gracedaycares.com/event/memorial-day-2018-closed/
END:VEVENT
BEGIN:VEVENT
DTSTART;VALUE=DATE:20180507
DTEND;VALUE=DATE:20180512
DTSTAMP:20260423T161658
CREATED:20180507T211338Z
LAST-MODIFIED:20180507T211338Z
UID:640-1525651200-1526083199@gracedaycares.com
SUMMARY:Teacher Appreciation Week
DESCRIPTION:
URL:https://gracedaycares.com/event/teacher-appreciation-week/
LOCATION:Grace Daycare
END:VEVENT
END:VCALENDAR